BEGIN:VCALENDAR
VERSION:2.0
PRODID:-//FORUM NACHHALTIGER KAKAO e.V. - ECPv6.15.20//NONSGML v1.0//EN
CALSCALE:GREGORIAN
METHOD:PUBLISH
X-ORIGINAL-URL:https://www.kakaoforum.de
X-WR-CALDESC:Veranstaltungen für FORUM NACHHALTIGER KAKAO e.V.
REFRESH-INTERVAL;VALUE=DURATION:PT1H
X-Robots-Tag:noindex
X-PUBLISHED-TTL:PT1H
BEGIN:VTIMEZONE
TZID:Europe/Berlin
BEGIN:DAYLIGHT
TZOFFSETFROM:+0100
TZOFFSETTO:+0200
TZNAME:CEST
DTSTART:20230326T010000
END:DAYLIGHT
BEGIN:STANDARD
TZOFFSETFROM:+0200
TZOFFSETTO:+0100
TZNAME:CET
DTSTART:20231029T010000
END:STANDARD
BEGIN:DAYLIGHT
TZOFFSETFROM:+0100
TZOFFSETTO:+0200
TZNAME:CEST
DTSTART:20240331T010000
END:DAYLIGHT
BEGIN:STANDARD
TZOFFSETFROM:+0200
TZOFFSETTO:+0100
TZNAME:CET
DTSTART:20241027T010000
END:STANDARD
BEGIN:DAYLIGHT
TZOFFSETFROM:+0100
TZOFFSETTO:+0200
TZNAME:CEST
DTSTART:20250330T010000
END:DAYLIGHT
BEGIN:STANDARD
TZOFFSETFROM:+0200
TZOFFSETTO:+0100
TZNAME:CET
DTSTART:20251026T010000
END:STANDARD
END:VTIMEZONE
BEGIN:VTIMEZONE
TZID:Africa/Abidjan
BEGIN:STANDARD
TZOFFSETFROM:+0000
TZOFFSETTO:+0000
TZNAME:GMT
DTSTART:20230101T000000
END:STANDARD
END:VTIMEZONE
BEGIN:VEVENT
DTSTART;VALUE=DATE:20241106
DTEND;VALUE=DATE:20241107
DTSTAMP:20260420T044637
CREATED:20240613T155551Z
LAST-MODIFIED:20240619T125116Z
UID:3420-1730851200-1730937599@www.kakaoforum.de
SUMMARY:ISCO Working Group Traceability
DESCRIPTION:Die nationalen Initiativen für nachhaltigen Kakao in Europa (ISCOs) haben fünf Arbeitsgruppen gebildet\, die die gemeinsamen Herausforderungen widerspiegeln\, die in ihrer Absichtserklärung genannt werden: Rückverfolgbarkeit und Transparenz\, existenzsicherndes Einkommen\, Wälder und Agroforstwirtschaft\, Kinderarbeit sowie Monitoring und Evaluation. Für jeden Arbeitsbereich wurde eine Arbeitsgruppe gebildet\, die das gegenseitige Lernen fördern und die Mitglieder bei der Erfüllung ihrer Verpflichtungen unterstützen soll. \nThe National Initiatives on Sustainable Cocoa in Europe (ISCOs) have created five workstreams\, reflecting the common challenges identified in their Memorandum of Understanding: traceability & transparency\, living income\, forests & agroforestry\, child labour\, and monitoring & evaluation. For each work stream a working group was created which aims to foster peer learnings and support members in reaching their commitments.
URL:https://www.kakaoforum.de/event/isco-working-group-traceability/
LOCATION:Online
CATEGORIES:ISCO
END:VEVENT
BEGIN:VEVENT
DTSTART;TZID=Europe/Berlin:20241112T150000
DTEND;TZID=Europe/Berlin:20241112T163000
DTSTAMP:20260420T044637
CREATED:20240930T142131Z
LAST-MODIFIED:20240930T153046Z
UID:5271-1731423600-1731429000@www.kakaoforum.de
SUMMARY:ALICO Online-Seminar zur Cocoa Household Income Study (CHIS)
DESCRIPTION:On November 12th\, 2024 ALICO is inviting to their Online-Seminar on „Cocoa Household Income Study (CHIS): Methodology and first results from Ghana\, Ivory Coast and Cameroon“. The seminar will be held in english language\, from 3:00-4:30pm CET via zoom meeting. please register in advance: register here \nAgenda of the Online Seminar is as follows:\n• present CHIS methodology\,\n• results from the Joint CHIS between Ghana Cocobod and the Swiss Platform for Sustainable Cocoa\, and\n• preliminary results from Cameroon by JRC/FAO and\n• preliminary results from Ivory Coast by WUR/KIT. \nThe Cocoa Household Income Study methodology results from a sector-wide collaboration with all Alliance of Living Income ALICO partners.\nThis venture aims to set standards that enhance farmers’ livelihoods by ensuring a common research framework\, better sampling and fair representation.\nMore information can be found here: Cocoa Household Income Study Methodology – World Cocoa Foundation
URL:https://www.kakaoforum.de/event/alico-online-seminar-zur-cocoa-household-income-study-chis/
LOCATION:Online
CATEGORIES:Extern
END:VEVENT
BEGIN:VEVENT
DTSTART;TZID=Europe/Berlin:20241113T140000
DTEND;TZID=Europe/Berlin:20241113T153000
DTSTAMP:20260420T044637
CREATED:20241112T081124Z
LAST-MODIFIED:20251120T120418Z
UID:5601-1731506400-1731511800@www.kakaoforum.de
SUMMARY:Launch of the Study Report –  A cross-company grievance mechanism in the cocoa sector in Côte d’Ivoire
DESCRIPTION: Join us for the launch of a study report exploring the feasibility of a cross-company grievance mechanism in the cocoa sector in Côte d’Ivoire!  \nThe study was conducted by the RISOME-Audace Institut Afrique consortium and jointly commissioned by the Due Diligence Fund (DDF) of the BMZ\, GISCO members from industry\, standard setting organizations\, civil society and further cooperation partners. As a GISCO supporting member\, ICI was also part of the steering committee accompanying the study. \nOn January 1st\, 2023\, the German Act on Corporate Due Diligence Obligations came into force. Aiming to improve human rights compliance (including the prohibition of child and forced labor) and environmental standards in global supply chains\, it requires German companies with more than 1\,000 employees to meet certain „due diligence“ obligations in their supply chains\, to prevent or minimize human rights and environmental risks. Specifically\, section 8 of the German Act obliges companies to set up a grievance mechanism for anyone likely to be affected by violations. \nThis feasibility study hence aimed to evaluate the potential for implementing a grievance mechanism meeting the requirements of due diligence legislation as well as the commitment of GISCO members to ensuring human rights and environmental due diligence in their cocoa supply chains in accordance with the UN Guiding Principles on Business and Human Rights (GISCO Goal 8). \nUsing a participatory\, iterative approach including field studies in Côte d’Ivoire and interviews with stakeholders\, the study spans a comprehensive assessment of human and environmental risks in Côte d’Ivoire’s cocoa sector\, the development of a cross-company grievance mechanism proposal\, and its validation with stakeholders in the cocoa value chain.\n\n\n The study has demonstrated both the feasibility and high relevance of such a cross-company grievance mechanism\, emphasizing essential principles of accessibility\, predictability\, confidentiality\, transparency\, and swift\, effective remediation. \n The launch webinar will : \n\nfocus on the study results as well as the concept for a pilot of the mechanism and\noffer a space to interested ISCO and ICI members to discuss the pilot with the authors of the study as well as industry members from the project team committed to prepare a funding proposal in early 2025\n\nRegister here!
URL:https://www.kakaoforum.de/event/launch-of-the-study-report-a-cross-company-grievance-mechanism-in-the-cocoa-sector-in-cote-divoire/
LOCATION:Online
CATEGORIES:Seminar
ORGANIZER;CN="Forum Nachhaltiger Kakao":MAILTO:info@kakaoforum.de
END:VEVENT
BEGIN:VEVENT
DTSTART;TZID=Europe/Berlin:20241114T140000
DTEND;TZID=Europe/Berlin:20241114T153000
DTSTAMP:20260420T044637
CREATED:20240613T155428Z
LAST-MODIFIED:20251120T120327Z
UID:3417-1731592800-1731598200@www.kakaoforum.de
SUMMARY:Online-Seminar Successes and lessons learnt from PRO-PLANTEURS
DESCRIPTION:Erfolge und Lessons Learnt von PRO-PLANTEURS: Professionalisierung der Kooperativen und Diversifizierung zur Steigerung des Einkommens.  \n\nDas Seminar findet am 14. November von 14.00 bis 15.30 Uhr statt und wird simultan ins Deutsche\, Englische und Französische übersetzt.\nDas Programm beinhaltet eine kurze Einführung und einen Überblick über PRO-PLANTEURS Schwerpunkte. Danach folgen Erfahrungen aus der Projektumsetzung mit Einblicken in die Anwendung von Diversifizierungstools. Anschließend gibt es ein Q&A mit einem Vertreter der Kooperative über Herausforderungen und Erfolge bei der Professionalisierung aus Sicht der Kakaobäuerinnen und -bauern. Die Agenda finden Sie hier.\n\nZum Seminar sind ausschließlich Mitglieder des Forum Nachhaltiger Kakao eingeladen. \nBitte beachten Sie\, dass das Seminar aufgezeichnet wird. Teilnehmende\, die nicht im Video erscheinen möchten\, werden gebeten\, ihre Kamera ausgeschaltet zu lassen. \nFür weitere Informationen stehen wir Ihnen jederzeit gerne zur Verfügung. Wir freuen uns auf einen regen Austausch! \nEine Registrierung über die Website ist nicht mehr möglich. Wenn Sie teilnehmen möchten\, wenden Sie sich bitte an die Geschäftsstelle. \n\nSuccesses and lessons learned from PRO-PLANTEURS: professionalisation of cooperatives and diversification to increase income.  \n\nThe seminar will take place on November 14th\, from 2 PM to 3:30 PM CET and will be translated simultaneously in German\, English and French.\nThe programme includes a short introduction and an overview of PRO-PLANTEURS main areas of focus. This will be followed by insights from project implementation\, focusing on the application of diversification tools. A Q&A session with a cooperative representative will then address the challenges and successes in professionalisation from the perspective of cocoa farmers. Here you can access the agenda in english and in french.\n\nThis is a members-only event.  \nPlease note that the seminar will be recorded. Participants who do not wish to appear on the video are kindly asked to keep their cameras turned off. \nRegistration via the website is no longer possible. If you would like to participate\, please contact the Secretariat. \nFor more information\, please do not hesitate to contact us at any time. We are looking forward to a lively exchange!
URL:https://www.kakaoforum.de/event/online-seminar-november-pro-planteurs/
LOCATION:Online
CATEGORIES:Seminar
ORGANIZER;CN="Forum Nachhaltiger Kakao":MAILTO:info@kakaoforum.de
END:VEVENT
BEGIN:VEVENT
DTSTART;TZID=Europe/Berlin:20241121T140000
DTEND;TZID=Europe/Berlin:20241121T153000
DTSTAMP:20260420T044637
CREATED:20240613T155757Z
LAST-MODIFIED:20241007T161820Z
UID:3422-1732197600-1732203000@www.kakaoforum.de
SUMMARY:ISCO Working Group Living Income
DESCRIPTION:Die nationalen Initiativen für nachhaltigen Kakao in Europa (ISCOs) haben fünf Arbeitsgruppen gebildet\, die die gemeinsamen Herausforderungen widerspiegeln\, die in ihrer Absichtserklärung genannt werden: Rückverfolgbarkeit und Transparenz\, existenzsicherndes Einkommen\, Wälder und Agroforstwirtschaft\, Kinderarbeit sowie Monitoring und Evaluation. Für jeden Arbeitsbereich wurde eine Arbeitsgruppe gebildet\, die das gegenseitige Lernen fördern und die Mitglieder bei der Erfüllung ihrer Verpflichtungen unterstützen soll. \nThe National Initiatives on Sustainable Cocoa in Europe (ISCOs) have created five workstreams\, reflecting the common challenges identified in their Memorandum of Understanding: traceability & transparency\, living income\, forests & agroforestry\, child labour\, and monitoring & evaluation. For each work stream a working group was created which aims to foster peer learnings and support members in reaching their commitments.
URL:https://www.kakaoforum.de/event/isco-working-group-living-income-2/
LOCATION:Online
CATEGORIES:ISCO
END:VEVENT
BEGIN:VEVENT
DTSTART;TZID=Africa/Abidjan:20241127T133000
DTEND;TZID=Africa/Abidjan:20241127T170000
DTSTAMP:20260420T044637
CREATED:20241112T082354Z
LAST-MODIFIED:20241112T082354Z
UID:5607-1732714200-1732726800@www.kakaoforum.de
SUMMARY:Programme de l’atelier de capitalisation du projet PRO-PLANTEURS
DESCRIPTION:
URL:https://www.kakaoforum.de/event/programme-de-latelier-de-capitalisation-du-projet-pro-planteurs/
LOCATION:Abidjan\, Côte d’Ivoire\, Abidjan\, Côte d'Ivoire
END:VEVENT
END:VCALENDAR