BEGIN:VCALENDAR
VERSION:2.0
PRODID:-//FORUM NACHHALTIGER KAKAO e.V. - ECPv6.15.20//NONSGML v1.0//EN
CALSCALE:GREGORIAN
METHOD:PUBLISH
X-ORIGINAL-URL:https://www.kakaoforum.de
X-WR-CALDESC:Veranstaltungen für FORUM NACHHALTIGER KAKAO e.V.
REFRESH-INTERVAL;VALUE=DURATION:PT1H
X-Robots-Tag:noindex
X-PUBLISHED-TTL:PT1H
BEGIN:VTIMEZONE
TZID:Europe/Berlin
BEGIN:DAYLIGHT
TZOFFSETFROM:+0100
TZOFFSETTO:+0200
TZNAME:CEST
DTSTART:20230326T010000
END:DAYLIGHT
BEGIN:STANDARD
TZOFFSETFROM:+0200
TZOFFSETTO:+0100
TZNAME:CET
DTSTART:20231029T010000
END:STANDARD
BEGIN:DAYLIGHT
TZOFFSETFROM:+0100
TZOFFSETTO:+0200
TZNAME:CEST
DTSTART:20240331T010000
END:DAYLIGHT
BEGIN:STANDARD
TZOFFSETFROM:+0200
TZOFFSETTO:+0100
TZNAME:CET
DTSTART:20241027T010000
END:STANDARD
BEGIN:DAYLIGHT
TZOFFSETFROM:+0100
TZOFFSETTO:+0200
TZNAME:CEST
DTSTART:20250330T010000
END:DAYLIGHT
BEGIN:STANDARD
TZOFFSETFROM:+0200
TZOFFSETTO:+0100
TZNAME:CET
DTSTART:20251026T010000
END:STANDARD
END:VTIMEZONE
BEGIN:VEVENT
DTSTART;TZID=Europe/Berlin:20240910T100000
DTEND;TZID=Europe/Berlin:20240910T113000
DTSTAMP:20260420T062128
CREATED:20240708T100209Z
LAST-MODIFIED:20240823T082831Z
UID:4409-1725962400-1725967800@www.kakaoforum.de
SUMMARY:Online-Seminar "Human Rights Due Diligence (HRDD) for Retailers" von ICI
DESCRIPTION:Externes Event\, keine Registrierung über die Webseite des Kakaoforums\, sondern über International Cocoa Initiative. \nExternal Event\, no registration via the GISCO website\, but via the International Cocoa Initiative
URL:https://www.kakaoforum.de/event/online-seminar-human-rights-due-diligence-hrdd-for-retailers-von-ici/
LOCATION:Online
CATEGORIES:Extern
END:VEVENT
BEGIN:VEVENT
DTSTART;VALUE=DATE:20240912
DTEND;VALUE=DATE:20240913
DTSTAMP:20260420T062128
CREATED:20240715T140336Z
LAST-MODIFIED:20240715T140336Z
UID:4493-1726099200-1726185599@www.kakaoforum.de
SUMMARY:World Confectionery Conference 2024
DESCRIPTION:Die internationale Confectionery Confrence und Austellung bringt globale Akteure der Süßigkeiten\, Snacks und Backwaren Märkte während der eintägigen Veranstaltung in Brüssel\, Belgien\, zusammen. Ticketkauf notwendig. Weitere Informationen finden Sie auf der Website des Veranstalters. \nThe international confectionery conference and exhibition brings the global sweets\, snacks and bakery markets together during a one-day event in Brussels\, Belgium. Purchasing a ticket is required. More information can be found on the hosts‘ website.
URL:https://www.kakaoforum.de/event/world-confectionery-conference-2024/
LOCATION:Brussels\, Belgium\, NHow Brussels Bloom Rue Royale 250\, Bruxelles\, 1210\, Belgien
CATEGORIES:Extern
END:VEVENT
BEGIN:VEVENT
DTSTART;TZID=Europe/Berlin:20240919T150000
DTEND;TZID=Europe/Berlin:20240919T160000
DTSTAMP:20260420T062128
CREATED:20240910T093439Z
LAST-MODIFIED:20240912T142112Z
UID:5047-1726758000-1726761600@www.kakaoforum.de
SUMMARY:Online Seminar: Living Income 101 - A Beginners Guide to the Key Concept
DESCRIPTION:Organized by LICOP\, this online seminar will break down the fundamentals of Living Income\, explore application strategies\, discuss current trends\, and highlight LICOP’s role in advancing Living Income. LICOP will also share key resources such as Living Income FAQs and the IDH tools. \nPlease register for this event in advance. The seminar will be held in English. \nThe Living Income Community of Practice (LICOP) is a network that organizes cross-commodity events and activities on the topic of living income. The German Initiative on Sustainable Cocoa is a partner of LICOP and collaborates within the framework of ALICO. \n 
URL:https://www.kakaoforum.de/event/online-seminar-living-income-101-a-beginners-guide-to-the-key-concept/
LOCATION:Online
CATEGORIES:Extern
END:VEVENT
BEGIN:VEVENT
DTSTART;TZID=Europe/Berlin:20240923T150000
DTEND;TZID=Europe/Berlin:20240923T163000
DTSTAMP:20260420T062128
CREATED:20240806T081333Z
LAST-MODIFIED:20240912T142154Z
UID:4795-1727103600-1727109000@www.kakaoforum.de
SUMMARY:AG PRO-PLANTEURS
DESCRIPTION:Diese AG findet in regelmäßigen Abständen statt.
URL:https://www.kakaoforum.de/event/ag-pro-planteurs-2/
LOCATION:Bonn\, Rochusstraße 1\, Bonn\, 53123
CATEGORIES:AG Sitzung
ORGANIZER;CN="Forum Nachhaltiger Kakao":MAILTO:info@kakaoforum.de
END:VEVENT
BEGIN:VEVENT
DTSTART;TZID=Europe/Berlin:20240924T140000
DTEND;TZID=Europe/Berlin:20240924T160000
DTSTAMP:20260420T062128
CREATED:20240612T082341Z
LAST-MODIFIED:20240923T125548Z
UID:3248-1727186400-1727193600@www.kakaoforum.de
SUMMARY:Online Seminar: Enabling cocoa farmers to earn a living income: Insights from Tony’s Open Chain
DESCRIPTION:Am Dienstag\, den 24. September 2024\, veranstaltet das Forum Nachhaltiger Kakao ein Online-Seminar für Mitglieder mit dem Titel Enabling cocoa farmers to earn a living income: Einblicke aus Tony’s Open Chain. \nDas Seminar findet von 14.00 bis 16.00 Uhr statt und wird auf Englisch abgehalten. Bitte melden Sie sich bis zum 22. September an. Der Link zum Online-Seminar wird am 23. September verschickt. \nDas Programm beinhaltet eine kurze Einführung in Tony’s Open Chain und das Ziel\, die Kakaolieferkette gemeinsam mit den „Mission Allies“ zu verändern. \nDanach folgt eine Podiumsdiskussion mit den Partnern von Tony’s Open Chain. Es wird viel Zeit für Ihre Fragen und Diskussionen zur Verfügung stehen. \nBitte beachten Sie\, dass das Seminar aufgezeichnet wird. Teilnehmende\, die nicht im Video erscheinen möchten\, werden gebeten\, ihre Kamera ausgeschaltet zu lassen. \nFür weitere Informationen stehen wir Ihnen jederzeit gerne zur Verfügung. Wir freuen uns auf einen regen Austausch! \n\nOn Tuesday\, September 24th\, 2024\, GISCO will host an online seminar for GISCO members titled Enabling cocoa farmers to earn a living income: Insights from Tony’s Open Chain. \nThe seminar will take place from 2 PM to 4 PM CEST and will be conducted in English. Please register below by September 22nd. The link to the online seminar will be sent out on September 23rd. \nThe program features a brief introduction to Tony’s Open Chain and their ambition to transform the cocoa supply chain together with their „Mission Allies“. \nThis will be followed by a panel discussion with Tony’s Open Chain partners. There will be ample time for your questions and discussion. \nPlease note that the seminar will be recorded. Participants who do not wish to appear on the video are kindly asked to keep their cameras turned off. \nFor more information\, please do not hesitate to contact us at any time. We are looking forward to a lively exchange! \n\n\nAgenda_Living Income Seminar Tony’s Open Chain
URL:https://www.kakaoforum.de/event/online-seminar-september/
LOCATION:Online
CATEGORIES:Seminar
ORGANIZER;CN="Forum Nachhaltiger Kakao":MAILTO:info@kakaoforum.de
END:VEVENT
BEGIN:VEVENT
DTSTART;TZID=Europe/Berlin:20240930T130000
DTEND;TZID=Europe/Berlin:20240930T180000
DTSTAMP:20260420T062128
CREATED:20240709T072833Z
LAST-MODIFIED:20240709T072833Z
UID:4435-1727701200-1727719200@www.kakaoforum.de
SUMMARY:Digitalkonferenz zur Unternehmerischen Nachhaltigkeit
DESCRIPTION:Zertifizierte Nachhaltigkeit als Chance – der ZNU-Standard Nachhaltiger Wirtschaften 2024 \n„Die nachhaltige Transformation in Wirtschaft und Gesellschaft gemeinsam vorantreiben!“ Dazu lädt das Zentrum für Nachhaltige Unternehmensführung (ZNU) in ihrer Digital-Konferenz zum ZNU-Standard Nachhaltiger Wirtschaften 2024 am 30. September 2024 von 13-18 Uhr ein. \nDie Konferenz findet online und in deutscher Sprache statt. Eine Anmeldung über die Veranstalter-Website wird benötigt.
URL:https://www.kakaoforum.de/event/digitalkonferenz-zur-unternehmerischen-nachhaltigkeit/
LOCATION:Online
CATEGORIES:Extern
END:VEVENT
END:VCALENDAR