BEGIN:VCALENDAR
VERSION:2.0
PRODID:-//FORUM NACHHALTIGER KAKAO e.V. - ECPv6.15.20//NONSGML v1.0//EN
CALSCALE:GREGORIAN
METHOD:PUBLISH
X-ORIGINAL-URL:https://www.kakaoforum.de
X-WR-CALDESC:Veranstaltungen für FORUM NACHHALTIGER KAKAO e.V.
REFRESH-INTERVAL;VALUE=DURATION:PT1H
X-Robots-Tag:noindex
X-PUBLISHED-TTL:PT1H
BEGIN:VTIMEZONE
TZID:Europe/Berlin
BEGIN:DAYLIGHT
TZOFFSETFROM:+0100
TZOFFSETTO:+0200
TZNAME:CEST
DTSTART:20240331T010000
END:DAYLIGHT
BEGIN:STANDARD
TZOFFSETFROM:+0200
TZOFFSETTO:+0100
TZNAME:CET
DTSTART:20241027T010000
END:STANDARD
BEGIN:DAYLIGHT
TZOFFSETFROM:+0100
TZOFFSETTO:+0200
TZNAME:CEST
DTSTART:20250330T010000
END:DAYLIGHT
BEGIN:STANDARD
TZOFFSETFROM:+0200
TZOFFSETTO:+0100
TZNAME:CET
DTSTART:20251026T010000
END:STANDARD
BEGIN:DAYLIGHT
TZOFFSETFROM:+0100
TZOFFSETTO:+0200
TZNAME:CEST
DTSTART:20260329T010000
END:DAYLIGHT
BEGIN:STANDARD
TZOFFSETFROM:+0200
TZOFFSETTO:+0100
TZNAME:CET
DTSTART:20261025T010000
END:STANDARD
END:VTIMEZONE
BEGIN:VEVENT
DTSTART;TZID=Europe/Berlin:20250526T150000
DTEND;TZID=Europe/Berlin:20250527T170000
DTSTAMP:20260419T171539
CREATED:20241203T165300Z
LAST-MODIFIED:20251120T120521Z
UID:5857-1748271600-1748365200@www.kakaoforum.de
SUMMARY:Mitgliederversammlung / Annual General Meeting
DESCRIPTION:(English version below) \nSehr geehrte Mitglieder\, Freundinnen und Freunde des Forum Nachhaltiger Kakao e.V.\, wir laden Sie herzlich zur 13. Mitgliederversammlung des Forum Nachhaltiger Kakao e.V. ein. Bitte melden Sie sich bis zum 30. April über das Formular auf dieser Seite an. \nVereinsgeschäftlicher Teil: Montag\, 26. Mai 2025  – Deutsch und Englisch \n\nRegistrierung ab 15:30 Uhr\nBeginn der Versammlung: 16 Uhr \nEmpfang ab 19:30 \n\nHier können Sie die Agenda des vereinsgeschäftlichen Teils einsehen. \nÖffentlicher Teil: Dienstag\, 27. Mai 2025 – Deutsch\, Englisch und Französisch \n\nRegistrierung ab 09:00 Uhr\n Versammlung von 09:30-16:00 Uhr \n\nHier können Sie die Agenda des öffentlichen Teils einsehen. \nOrt: Bundesministerium für Landwirtschaft\, Ernährung und Heimat (BMELH) Rochusstraße 1\, 53123 Bonn \nNach fast eineinhalb Jahren Schwerpunktthema Inklusive Strategien für existenzsichernde Einkommen ziehen wir Bilanz: Was funktioniert\, wo braucht es neue Instrumente\, wie können wir wirksame Ansätze skalieren? Dabei werfen wir einen Blick auf zentrale Erkenntnisse aus den Roadmaps zu Existenzsichernden Einkommen unserer Mitglieder\, die nun veröffentlicht sind\, und reflektieren Strategien und nächste Schritte für die gemeinsame Zielerreichung. \nWir feiern außerdem 10 Jahre Mitgliederprojekt PRO-PLANTEURS und bekommen Einblicke in die Lernerfahrungen Praxis durch den Austausch mit Experten und Partnern des Projekts aus der Côte d’Ivoire. \nWir freuen uns auf die Mitgliederversammlung und verbleiben mit freundlichen Grüßen\nIhre Geschäftsstelle des Forum Nachhaltiger Kakao \n\nDear members and supporters of the German Initiative on Sustainable Cocoa\, we warmly invite you to the 13th General Meeting of the German Initiative on Sustainable Cocoa. Please register by 30 April using the form on this page. \nAssociation-related Meeting: Monday\, 26 May 2025 – German and English \n\nRegistration starts at: 3:30 PM\nMeeting begins at: 4:00 PM\nReception from: 7:30 PM\n\nHere you have access to the agenda of the association-related meeting. \nPublic Event: Tuesday\, 27 May 2025 – German\, English\, and French \n\nRegistration starts at: 9:00 AM\nMeeting from: 9:30 AM – 4:00 PM\n\nHere you have access to the agenda of the public event. \nLocation: Federal Ministry of Food and Agriculture (BMELH)\, Rochusstraße 1\, 53123 Bonn \nAfter almost one and a half years of our annual theme Inclusive Strategies for a Living Income\, we reflect on our journey: What is working\, where are new instruments needed\, and how can we scale effective approaches? In this context\, we will look at key insights from our members‘ Living Income Roadmaps\, which have now been published\, and reflect on strategies and next steps for achieving our common goal. \nWe will also celebrate 10 years of the PRO-PLANTEURS members’ project and gain insights into practical learning experiences through exchanges with experts and project partners from Côte d’Ivoire. \nWe look forward to the General Meeting and remain with kind regards\,\nYour Secretariat of the German Initiative on Sustainable Cocoa \n\n 
URL:https://www.kakaoforum.de/event/mitgliederversammlung2025/
LOCATION:Bonn\, Rochusstraße 1\, Bonn\, 53123
CATEGORIES:Mitgliederversammlung
ORGANIZER;CN="Forum Nachhaltiger Kakao":MAILTO:info@kakaoforum.de
END:VEVENT
END:VCALENDAR