BEGIN:VCALENDAR
VERSION:2.0
PRODID:-//FORUM NACHHALTIGER KAKAO e.V. - ECPv6.15.20//NONSGML v1.0//EN
CALSCALE:GREGORIAN
METHOD:PUBLISH
X-WR-CALNAME:FORUM NACHHALTIGER KAKAO e.V.
X-ORIGINAL-URL:https://www.kakaoforum.de
X-WR-CALDESC:Veranstaltungen für FORUM NACHHALTIGER KAKAO e.V.
REFRESH-INTERVAL;VALUE=DURATION:PT1H
X-Robots-Tag:noindex
X-PUBLISHED-TTL:PT1H
BEGIN:VTIMEZONE
TZID:Europe/Berlin
BEGIN:DAYLIGHT
TZOFFSETFROM:+0100
TZOFFSETTO:+0200
TZNAME:CEST
DTSTART:20240331T010000
END:DAYLIGHT
BEGIN:STANDARD
TZOFFSETFROM:+0200
TZOFFSETTO:+0100
TZNAME:CET
DTSTART:20241027T010000
END:STANDARD
BEGIN:DAYLIGHT
TZOFFSETFROM:+0100
TZOFFSETTO:+0200
TZNAME:CEST
DTSTART:20250330T010000
END:DAYLIGHT
BEGIN:STANDARD
TZOFFSETFROM:+0200
TZOFFSETTO:+0100
TZNAME:CET
DTSTART:20251026T010000
END:STANDARD
BEGIN:DAYLIGHT
TZOFFSETFROM:+0100
TZOFFSETTO:+0200
TZNAME:CEST
DTSTART:20260329T010000
END:DAYLIGHT
BEGIN:STANDARD
TZOFFSETFROM:+0200
TZOFFSETTO:+0100
TZNAME:CET
DTSTART:20261025T010000
END:STANDARD
END:VTIMEZONE
BEGIN:VEVENT
DTSTART;TZID=Europe/Berlin:20250513T110000
DTEND;TZID=Europe/Berlin:20250513T123000
DTSTAMP:20260419T185115
CREATED:20250410T130812Z
LAST-MODIFIED:20251120T120456Z
UID:6940-1747134000-1747139400@www.kakaoforum.de
SUMMARY:Online-Seminar:  Pricing mechanisms in the cocoa sector: Regulated and unregulated markets in producing countries
DESCRIPTION:Dear members of the German Initiative on Sustainable Cocoa\, \nOn Tuesday\, May 13th\, 2025\, GISCO will host an online seminar titled Pricing mechanisms in the cocoa sector: Regulated and unregulated markets in producing countries. \nHow are cocoa prices set in producing countries? What are the implications of different market systems for producers and buyers? \nThis online seminar explores cocoa pricing in Ghana and Nigeria – two countries with contrasting approaches: one regulated\, one liberalized. Experts will present market dynamics and challenges\, followed by practical insights and an open discussion. Here you have access to the agenda of the seminar. \nSpeakers include:– Sophie van Huellen\, Global Development Institute\, University of Manchester– Samuel Orisajo\, Cocoa Research Institute of Nigeria (CRIN) \nThe seminar is open to GISCO members.Registration is required. Please register by May 12th.  \nLanguage: English \nBest regards\,\nYour Secretariat of the German Initiative on Sustainable Cocoa
URL:https://www.kakaoforum.de/event/online-seminar-pricing-mechanisms-in-the-cocoa-sector-regulated-and-unregulated-markets-in-producing-countries/
LOCATION:Online
CATEGORIES:Seminar
ORGANIZER;CN="Forum Nachhaltiger Kakao":MAILTO:info@kakaoforum.de
END:VEVENT
END:VCALENDAR