BEGIN:VCALENDAR
VERSION:2.0
PRODID:-//FORUM NACHHALTIGER KAKAO e.V. - ECPv6.15.20//NONSGML v1.0//EN
CALSCALE:GREGORIAN
METHOD:PUBLISH
X-ORIGINAL-URL:https://www.kakaoforum.de
X-WR-CALDESC:Veranstaltungen für FORUM NACHHALTIGER KAKAO e.V.
REFRESH-INTERVAL;VALUE=DURATION:PT1H
X-Robots-Tag:noindex
X-PUBLISHED-TTL:PT1H
BEGIN:VTIMEZONE
TZID:Europe/Berlin
BEGIN:DAYLIGHT
TZOFFSETFROM:+0100
TZOFFSETTO:+0200
TZNAME:CEST
DTSTART:20240331T010000
END:DAYLIGHT
BEGIN:STANDARD
TZOFFSETFROM:+0200
TZOFFSETTO:+0100
TZNAME:CET
DTSTART:20241027T010000
END:STANDARD
BEGIN:DAYLIGHT
TZOFFSETFROM:+0100
TZOFFSETTO:+0200
TZNAME:CEST
DTSTART:20250330T010000
END:DAYLIGHT
BEGIN:STANDARD
TZOFFSETFROM:+0200
TZOFFSETTO:+0100
TZNAME:CET
DTSTART:20251026T010000
END:STANDARD
BEGIN:DAYLIGHT
TZOFFSETFROM:+0100
TZOFFSETTO:+0200
TZNAME:CEST
DTSTART:20260329T010000
END:DAYLIGHT
BEGIN:STANDARD
TZOFFSETFROM:+0200
TZOFFSETTO:+0100
TZNAME:CET
DTSTART:20261025T010000
END:STANDARD
END:VTIMEZONE
BEGIN:VEVENT
DTSTART;TZID=Europe/Berlin:20250303T140000
DTEND;TZID=Europe/Berlin:20250303T150000
DTSTAMP:20260419T220506
CREATED:20250212T151243Z
LAST-MODIFIED:20250212T152208Z
UID:6201-1741010400-1741014000@www.kakaoforum.de
SUMMARY:Monitoringrunde 2025 - Launch Event / Monitoring round 2025 - Launch Event
DESCRIPTION:*Veranstaltung nur für ISCO-Mitglieder* \nDatum: 03.03.2025\nOrt: Online via MS-Teams \nDie diesjährige Monitoringrunde 2025 wird mit dem Launch Event eingeleitet und bietet allen ISCO-Mitgliedern die Möglichkeit\, in einem Online-Meeting einen Überblick über neue Anpassungen zu erhalten und in das Monitoring-Tool eingeführt zu werden. \n_____ \n*Event for ISCO members only* \nDate: 03/03/2025\nLocation: Online via MS-Teams \nThe annual monitoring round 2025 will be initiated with the launch event and offers all ISCO members the opportunity to get an overview of new adjustments and to be introduced to the monitoring tool in an online meeting.
URL:https://www.kakaoforum.de/event/monitoringrunde-2025-launch-event-monitoring-round-2025-launch-event/
LOCATION:Online
ORGANIZER;CN="Forum Nachhaltiger Kakao":MAILTO:info@kakaoforum.de
END:VEVENT
END:VCALENDAR