BEGIN:VCALENDAR
VERSION:2.0
PRODID:-//FORUM NACHHALTIGER KAKAO e.V. - ECPv6.15.20//NONSGML v1.0//EN
CALSCALE:GREGORIAN
METHOD:PUBLISH
X-ORIGINAL-URL:https://www.kakaoforum.de
X-WR-CALDESC:Veranstaltungen für FORUM NACHHALTIGER KAKAO e.V.
REFRESH-INTERVAL;VALUE=DURATION:PT1H
X-Robots-Tag:noindex
X-PUBLISHED-TTL:PT1H
BEGIN:VTIMEZONE
TZID:Europe/Berlin
BEGIN:DAYLIGHT
TZOFFSETFROM:+0100
TZOFFSETTO:+0200
TZNAME:CEST
DTSTART:20240331T010000
END:DAYLIGHT
BEGIN:STANDARD
TZOFFSETFROM:+0200
TZOFFSETTO:+0100
TZNAME:CET
DTSTART:20241027T010000
END:STANDARD
BEGIN:DAYLIGHT
TZOFFSETFROM:+0100
TZOFFSETTO:+0200
TZNAME:CEST
DTSTART:20250330T010000
END:DAYLIGHT
BEGIN:STANDARD
TZOFFSETFROM:+0200
TZOFFSETTO:+0100
TZNAME:CET
DTSTART:20251026T010000
END:STANDARD
BEGIN:DAYLIGHT
TZOFFSETFROM:+0100
TZOFFSETTO:+0200
TZNAME:CEST
DTSTART:20260329T010000
END:DAYLIGHT
BEGIN:STANDARD
TZOFFSETFROM:+0200
TZOFFSETTO:+0100
TZNAME:CET
DTSTART:20261025T010000
END:STANDARD
END:VTIMEZONE
BEGIN:VEVENT
DTSTART;VALUE=DATE:20250202
DTEND;VALUE=DATE:20250206
DTSTAMP:20260419T233036
CREATED:20241007T171833Z
LAST-MODIFIED:20241007T171921Z
UID:5385-1738454400-1738799999@www.kakaoforum.de
SUMMARY:ISM 2025
DESCRIPTION:Die ISM 2025 (Internationale Süßwarenmesse)\, die vom 2. bis 5. Februar in Köln stattfindet\, ist die weltweit größte Messe für Süßwaren und Snacks. Mit über 1.400 Ausstellern und rund 30.000 Fachbesuchern bietet sie eine Plattform für neue Produkte\, Trends und Networking in der Branche. Die Messe zieht internationale Entscheidungsträger und Fachleute an und fördert den Austausch über Innovationen und Geschäftsmöglichkeiten. \nWeitere Infos: ISM 2025 \n  \n\n\n\n\n\n\nISM 2025\, held in Cologne from February 2-5\, is the world’s leading trade fair for sweets and snacks. With over 1\,400 exhibitors and around 30\,000 visitors\, it offers a key platform for discovering new products\, networking\, and exploring industry trends. The event gathers international professionals and decision-makers to discuss innovation and business opportunities. \nMore details: ISM 2025
URL:https://www.kakaoforum.de/event/ism-2025/
LOCATION:Köln\, Köln\, Germany
CATEGORIES:Extern
END:VEVENT
END:VCALENDAR