BEGIN:VCALENDAR
VERSION:2.0
PRODID:-//FORUM NACHHALTIGER KAKAO e.V. - ECPv6.15.20//NONSGML v1.0//EN
CALSCALE:GREGORIAN
METHOD:PUBLISH
X-WR-CALNAME:FORUM NACHHALTIGER KAKAO e.V.
X-ORIGINAL-URL:https://www.kakaoforum.de
X-WR-CALDESC:Veranstaltungen für FORUM NACHHALTIGER KAKAO e.V.
REFRESH-INTERVAL;VALUE=DURATION:PT1H
X-Robots-Tag:noindex
X-PUBLISHED-TTL:PT1H
BEGIN:VTIMEZONE
TZID:Europe/Berlin
BEGIN:DAYLIGHT
TZOFFSETFROM:+0100
TZOFFSETTO:+0200
TZNAME:CEST
DTSTART:20230326T010000
END:DAYLIGHT
BEGIN:STANDARD
TZOFFSETFROM:+0200
TZOFFSETTO:+0100
TZNAME:CET
DTSTART:20231029T010000
END:STANDARD
BEGIN:DAYLIGHT
TZOFFSETFROM:+0100
TZOFFSETTO:+0200
TZNAME:CEST
DTSTART:20240331T010000
END:DAYLIGHT
BEGIN:STANDARD
TZOFFSETFROM:+0200
TZOFFSETTO:+0100
TZNAME:CET
DTSTART:20241027T010000
END:STANDARD
BEGIN:DAYLIGHT
TZOFFSETFROM:+0100
TZOFFSETTO:+0200
TZNAME:CEST
DTSTART:20250330T010000
END:DAYLIGHT
BEGIN:STANDARD
TZOFFSETFROM:+0200
TZOFFSETTO:+0100
TZNAME:CET
DTSTART:20251026T010000
END:STANDARD
END:VTIMEZONE
BEGIN:VEVENT
DTSTART;TZID=Europe/Berlin:20241114T140000
DTEND;TZID=Europe/Berlin:20241114T153000
DTSTAMP:20260420T043028
CREATED:20240613T155428Z
LAST-MODIFIED:20251120T120327Z
UID:3417-1731592800-1731598200@www.kakaoforum.de
SUMMARY:Online-Seminar Successes and lessons learnt from PRO-PLANTEURS
DESCRIPTION:Erfolge und Lessons Learnt von PRO-PLANTEURS: Professionalisierung der Kooperativen und Diversifizierung zur Steigerung des Einkommens.  \n\nDas Seminar findet am 14. November von 14.00 bis 15.30 Uhr statt und wird simultan ins Deutsche\, Englische und Französische übersetzt.\nDas Programm beinhaltet eine kurze Einführung und einen Überblick über PRO-PLANTEURS Schwerpunkte. Danach folgen Erfahrungen aus der Projektumsetzung mit Einblicken in die Anwendung von Diversifizierungstools. Anschließend gibt es ein Q&A mit einem Vertreter der Kooperative über Herausforderungen und Erfolge bei der Professionalisierung aus Sicht der Kakaobäuerinnen und -bauern. Die Agenda finden Sie hier.\n\nZum Seminar sind ausschließlich Mitglieder des Forum Nachhaltiger Kakao eingeladen. \nBitte beachten Sie\, dass das Seminar aufgezeichnet wird. Teilnehmende\, die nicht im Video erscheinen möchten\, werden gebeten\, ihre Kamera ausgeschaltet zu lassen. \nFür weitere Informationen stehen wir Ihnen jederzeit gerne zur Verfügung. Wir freuen uns auf einen regen Austausch! \nEine Registrierung über die Website ist nicht mehr möglich. Wenn Sie teilnehmen möchten\, wenden Sie sich bitte an die Geschäftsstelle. \n\nSuccesses and lessons learned from PRO-PLANTEURS: professionalisation of cooperatives and diversification to increase income.  \n\nThe seminar will take place on November 14th\, from 2 PM to 3:30 PM CET and will be translated simultaneously in German\, English and French.\nThe programme includes a short introduction and an overview of PRO-PLANTEURS main areas of focus. This will be followed by insights from project implementation\, focusing on the application of diversification tools. A Q&A session with a cooperative representative will then address the challenges and successes in professionalisation from the perspective of cocoa farmers. Here you can access the agenda in english and in french.\n\nThis is a members-only event.  \nPlease note that the seminar will be recorded. Participants who do not wish to appear on the video are kindly asked to keep their cameras turned off. \nRegistration via the website is no longer possible. If you would like to participate\, please contact the Secretariat. \nFor more information\, please do not hesitate to contact us at any time. We are looking forward to a lively exchange!
URL:https://www.kakaoforum.de/event/online-seminar-november-pro-planteurs/
LOCATION:Online
CATEGORIES:Seminar
ORGANIZER;CN="Forum Nachhaltiger Kakao":MAILTO:info@kakaoforum.de
END:VEVENT
END:VCALENDAR