BEGIN:VCALENDAR
VERSION:2.0
PRODID:-//FORUM NACHHALTIGER KAKAO e.V. - ECPv6.15.20//NONSGML v1.0//EN
CALSCALE:GREGORIAN
METHOD:PUBLISH
X-ORIGINAL-URL:https://www.kakaoforum.de
X-WR-CALDESC:Veranstaltungen für FORUM NACHHALTIGER KAKAO e.V.
REFRESH-INTERVAL;VALUE=DURATION:PT1H
X-Robots-Tag:noindex
X-PUBLISHED-TTL:PT1H
BEGIN:VTIMEZONE
TZID:Europe/Berlin
BEGIN:DAYLIGHT
TZOFFSETFROM:+0100
TZOFFSETTO:+0200
TZNAME:CEST
DTSTART:20230326T010000
END:DAYLIGHT
BEGIN:STANDARD
TZOFFSETFROM:+0200
TZOFFSETTO:+0100
TZNAME:CET
DTSTART:20231029T010000
END:STANDARD
BEGIN:DAYLIGHT
TZOFFSETFROM:+0100
TZOFFSETTO:+0200
TZNAME:CEST
DTSTART:20240331T010000
END:DAYLIGHT
BEGIN:STANDARD
TZOFFSETFROM:+0200
TZOFFSETTO:+0100
TZNAME:CET
DTSTART:20241027T010000
END:STANDARD
BEGIN:DAYLIGHT
TZOFFSETFROM:+0100
TZOFFSETTO:+0200
TZNAME:CEST
DTSTART:20250330T010000
END:DAYLIGHT
BEGIN:STANDARD
TZOFFSETFROM:+0200
TZOFFSETTO:+0100
TZNAME:CET
DTSTART:20251026T010000
END:STANDARD
END:VTIMEZONE
BEGIN:VEVENT
DTSTART;TZID=Europe/Berlin:20241017T140000
DTEND;TZID=Europe/Berlin:20241017T153000
DTSTAMP:20260420T061907
CREATED:20240613T154927Z
LAST-MODIFIED:20240619T125316Z
UID:3412-1729173600-1729179000@www.kakaoforum.de
SUMMARY:ISCO Working Group Child Labour
DESCRIPTION:Die nationalen Initiativen für nachhaltigen Kakao in Europa (ISCOs) haben fünf Arbeitsgruppen gebildet\, die die gemeinsamen Herausforderungen widerspiegeln\, die in ihrer Absichtserklärung genannt werden: Rückverfolgbarkeit und Transparenz\, existenzsicherndes Einkommen\, Wälder und Agroforstwirtschaft\, Kinderarbeit sowie Monitoring und Evaluation. Für jeden Arbeitsbereich wurde eine Arbeitsgruppe gebildet\, die das gegenseitige Lernen fördern und die Mitglieder bei der Erfüllung ihrer Verpflichtungen unterstützen soll. \nThe National Initiatives on Sustainable Cocoa in Europe (ISCOs) have created five workstreams\, reflecting the common challenges identified in their Memorandum of Understanding: traceability & transparency\, living income\, forests & agroforestry\, child labour\, and monitoring & evaluation. For each work stream a working group was created which aims to foster peer learnings and support members in reaching their commitments.
URL:https://www.kakaoforum.de/event/isco-working-group-child-labour/
LOCATION:Online
CATEGORIES:ISCO
END:VEVENT
END:VCALENDAR